BEGIN:VCALENDAR
VERSION:2.0
PRODID:-//Plone.org//NONSGML plone.app.event//EN
X-WR-TIMEZONE:Europe/Madrid
BEGIN:VEVENT
SUMMARY:Taller. "Cerca feina a l'estiu"
DTSTART;TZID=Europe/Madrid;VALUE=DATE-TIME:20140513T170000
DTEND;TZID=Europe/Madrid;VALUE=DATE-TIME:20140513T180000
DTSTAMP;VALUE=DATE-TIME:20260420T154137Z
UID:3e457897cbdb44febe7d10f14b1dc38f
CREATED;VALUE=DATE-TIME:20140513T000000Z
CATEGORIES:
LOCATION:Espai Jove - Avinguda Ferran Fabra, 1 08328
ORGANIZER:Ajuntament d'Alella
URL:https://www.mynerva.net/ajalella/document.php?id=4022
END:VEVENT
END:VCALENDAR