BEGIN:VCALENDAR
VERSION:2.0
PRODID:-//Plone.org//NONSGML plone.app.event//EN
X-WR-TIMEZONE:Europe/Madrid
BEGIN:VEVENT
SUMMARY:2a Marxa Nòrdica d'Alella del 28 de maig Dia Internacional d'Acció per la Salut de les Dones
DTSTART;TZID=Europe/Madrid;VALUE=DATE-TIME:20140528T100000
DTEND;TZID=Europe/Madrid;VALUE=DATE-TIME:20140528T110000
DTSTAMP;VALUE=DATE-TIME:20260421T013449Z
UID:849ece08a33bc540ea3985449c6958b2
CREATED;VALUE=DATE-TIME:20140528T000000Z
CATEGORIES:
LOCATION:Plaça de l'Ajuntament - Plaça de l'Ajuntament, s/n. 08328 Alella
ORGANIZER:Ajuntament d'Alella
URL:https://www.mynerva.net/ajalella/document.php?id=4026
END:VEVENT
END:VCALENDAR