BEGIN:VCALENDAR
VERSION:2.0
PRODID:-//Plone.org//NONSGML plone.app.event//EN
X-WR-TIMEZONE:Europe/Madrid
BEGIN:VEVENT
SUMMARY:Festa de la Joc i de l'Esport
DTSTART;TZID=Europe/Madrid;VALUE=DATE-TIME:20140531T090000
DTEND;TZID=Europe/Madrid;VALUE=DATE-TIME:20140531T100000
DTSTAMP;VALUE=DATE-TIME:20260421T050751Z
UID:18f4eae82c694acf5bafc2b84fd4e509
CREATED;VALUE=DATE-TIME:20140531T000000Z
CATEGORIES:
LOCATION:Pavelló d'Esports Municipal Abelardo Vera - Passeig de la Creu de Pedra, 29-31. 08328 Alella
ORGANIZER:Ajuntament d'Alella
COMMENT:Durada: Dissabte 31 de maig i diumenge 1 de juny
URL:https://www.mynerva.net/ajalella/document.php?id=4027
END:VEVENT
END:VCALENDAR