BEGIN:VCALENDAR
VERSION:2.0
PRODID:-//Plone.org//NONSGML plone.app.event//EN
X-WR-TIMEZONE:Europe/Madrid
BEGIN:VEVENT
SUMMARY:Passarel·la de moda. Alella desfila!
DTSTART;TZID=Europe/Madrid;VALUE=DATE-TIME:20140601T123000
DTEND;TZID=Europe/Madrid;VALUE=DATE-TIME:20140601T133000
DTSTAMP;VALUE=DATE-TIME:20260421T085849Z
UID:790a3d8ecdf3d01aea6590e361fad31e
CREATED;VALUE=DATE-TIME:20140601T000000Z
CATEGORIES:
LOCATION:Plaça de l'Ajuntament - Plaça de l'Ajuntament, s/n. 08328 Alella
ORGANIZER:Ajuntament d'Alella
URL:https://www.mynerva.net/ajalella/document.php?id=4028
END:VEVENT
END:VCALENDAR