BEGIN:VCALENDAR
VERSION:2.0
PRODID:-//Plone.org//NONSGML plone.app.event//EN
X-WR-TIMEZONE:Europe/Madrid
BEGIN:VEVENT
SUMMARY:7es Jornades de la Gent Gran Activa
DTSTART;TZID=Europe/Madrid;VALUE=DATE-TIME:20140516T100000
DTEND;TZID=Europe/Madrid;VALUE=DATE-TIME:20140516T110000
DTSTAMP;VALUE=DATE-TIME:20260420T164452Z
UID:705b0e31eaf5872d00d4221677a0d298
CREATED;VALUE=DATE-TIME:20140516T000000Z
CATEGORIES:
LOCATION:Diferents espais. Consulteu el programa www.alella.cat/jornadesgentgran
ORGANIZER:Ajuntament d'Alella
URL:https://www.mynerva.net/ajalella/document.php?id=4030
END:VEVENT
END:VCALENDAR