BEGIN:VCALENDAR
VERSION:2.0
PRODID:-//Plone.org//NONSGML plone.app.event//EN
X-WR-TIMEZONE:Europe/Madrid
BEGIN:VEVENT
SUMMARY:2es Jornades d'Emprenedoria Alella Emprèn!
DTSTART;TZID=Europe/Madrid;VALUE=DATE-TIME:20140521T113000
DTEND;TZID=Europe/Madrid;VALUE=DATE-TIME:20140521T123000
DTSTAMP;VALUE=DATE-TIME:20260420T221952Z
UID:93c3128f58a364af5fc9bac610e7c8fb
CREATED;VALUE=DATE-TIME:20140521T000000Z
CATEGORIES:
LOCATION:Diferent espais. Can Lleonart, Can Manyé, Espai Jove...
ORGANIZER:Ajuntament d'Alella
COMMENT:Durada: Del 19 al 23 de maig
URL:https://www.mynerva.net/ajalella/document.php?id=4031
END:VEVENT
END:VCALENDAR