BEGIN:VCALENDAR
VERSION:2.0
PRODID:-//Plone.org//NONSGML plone.app.event//EN
X-WR-TIMEZONE:Europe/Madrid
BEGIN:VEVENT
SUMMARY:Alella Valora l'Esport! Tastet de caiac i paddle-surf a la platja del Masnou
DTSTART;TZID=Europe/Madrid;VALUE=DATE-TIME:20140518T100000
DTEND;TZID=Europe/Madrid;VALUE=DATE-TIME:20140518T110000
DTSTAMP;VALUE=DATE-TIME:20260420T184228Z
UID:64bcf6eb4d5b19da5144b3a28b898136
CREATED;VALUE=DATE-TIME:20140518T000000Z
CATEGORIES:Esports
LOCATION:Platja del Masnou
ORGANIZER:Ajuntament d'Alella
COMMENT:Preu: Gratuït
URL:https://www.mynerva.net/ajalella/document.php?id=4032
END:VEVENT
END:VCALENDAR