BEGIN:VCALENDAR
VERSION:2.0
PRODID:-//Plone.org//NONSGML plone.app.event//EN
X-WR-TIMEZONE:Europe/Madrid
BEGIN:VEVENT
SUMMARY:Presentació del llibre "Calendari d'instints"
DTSTART;TZID=Europe/Madrid;VALUE=DATE-TIME:20140521T200000
DTEND;TZID=Europe/Madrid;VALUE=DATE-TIME:20140521T210000
DTSTAMP;VALUE=DATE-TIME:20260420T233011Z
UID:b95bffcc99be03a40be6281f1e5d0f5a
CREATED;VALUE=DATE-TIME:20140521T000000Z
CATEGORIES:
LOCATION:Biblioteca Municipal Ferrer i Guàrdia - Hort de la Rectoria. 08328 Alella
ORGANIZER:Ajuntament d'Alella
URL:https://www.mynerva.net/ajalella/document.php?id=4043
END:VEVENT
END:VCALENDAR