BEGIN:VCALENDAR
VERSION:2.0
PRODID:-//Plone.org//NONSGML plone.app.event//EN
X-WR-TIMEZONE:Europe/Madrid
BEGIN:VEVENT
SUMMARY:Xerrada. Necessitats, límits i llibertats dels infants de 0 a 3 anys.
DTSTART;TZID=Europe/Madrid;VALUE=DATE-TIME:20140515T170000
DTEND;TZID=Europe/Madrid;VALUE=DATE-TIME:20140515T180000
DTSTAMP;VALUE=DATE-TIME:20260420T164901Z
UID:0ee557979e9a572aac884ac53cfa3724
CREATED;VALUE=DATE-TIME:20140515T000000Z
CATEGORIES:
LOCATION:Llar d'Infants Municipal Els Pinyons - Avinguda del Bosquet, 5
ORGANIZER:Ajuntament d'Alella
URL:https://www.mynerva.net/ajalella/document.php?id=4050
END:VEVENT
END:VCALENDAR