BEGIN:VCALENDAR
VERSION:2.0
PRODID:-//Plone.org//NONSGML plone.app.event//EN
X-WR-TIMEZONE:Europe/Madrid
BEGIN:VEVENT
SUMMARY:Festa Vinalia Priora. Sopar i espectacle
DTSTART;TZID=Europe/Madrid;VALUE=DATE-TIME:20140517T211500
DTEND;TZID=Europe/Madrid;VALUE=DATE-TIME:20140517T221500
DTSTAMP;VALUE=DATE-TIME:20260420T184717Z
UID:472feb679b851b80195f9cb291d64746
CREATED;VALUE=DATE-TIME:20140517T000000Z
CATEGORIES:
LOCATION:Centre d'Acollida Turística - Ernest Lluch, 40. 08329 Teià
ORGANIZER:Ajuntament d'Alella
URL:https://www.mynerva.net/ajalella/document.php?id=4054
END:VEVENT
END:VCALENDAR