BEGIN:VCALENDAR
VERSION:2.0
PRODID:-//Plone.org//NONSGML plone.app.event//EN
X-WR-TIMEZONE:Europe/Madrid
BEGIN:VEVENT
SUMMARY:Concurs de postres amb garrofa
DTSTART;TZID=Europe/Madrid;VALUE=DATE-TIME:20140517T113000
DTEND;TZID=Europe/Madrid;VALUE=DATE-TIME:20140517T123000
DTSTAMP;VALUE=DATE-TIME:20260420T195454Z
UID:3f45a69ded9be65050a9d616fc28fc4d
CREATED;VALUE=DATE-TIME:20140517T000000Z
CATEGORIES:
LOCATION:La Porxada
ORGANIZER:Ajuntament d'Alella
URL:https://www.mynerva.net/ajalella/document.php?id=4064
END:VEVENT
END:VCALENDAR