BEGIN:VCALENDAR
VERSION:2.0
PRODID:-//Plone.org//NONSGML plone.app.event//EN
X-WR-TIMEZONE:Europe/Madrid
BEGIN:VEVENT
SUMMARY:73è Dinar d'Homenatge a la Vellesa
DTSTART;TZID=Europe/Madrid;VALUE=DATE-TIME:20140518T140000
DTEND;TZID=Europe/Madrid;VALUE=DATE-TIME:20140518T150000
DTSTAMP;VALUE=DATE-TIME:20260420T184328Z
UID:baf8e8b930357afd9aac2dfc6f24a54b
CREATED;VALUE=DATE-TIME:20140518T000000Z
CATEGORIES:
LOCATION:Pavelló d'Esports Municipal Abelardo Vera - Passeig de la Creu de Pedra, 29-31. 08328 Alella
ORGANIZER:Ajuntament d'Alella
URL:https://www.mynerva.net/ajalella/document.php?id=4065
END:VEVENT
END:VCALENDAR