BEGIN:VCALENDAR
VERSION:2.0
PRODID:-//Plone.org//NONSGML plone.app.event//EN
X-WR-TIMEZONE:Europe/Madrid
BEGIN:VEVENT
SUMMARY:Xerrada d'introducció al fit-walking
DTSTART;TZID=Europe/Madrid;VALUE=DATE-TIME:20140528T190000
DTEND;TZID=Europe/Madrid;VALUE=DATE-TIME:20140528T200000
DTSTAMP;VALUE=DATE-TIME:20260421T051102Z
UID:7a0eb72c6a54c7180de72c7537b717b8
CREATED;VALUE=DATE-TIME:20140528T000000Z
CATEGORIES:
LOCATION:Casal de la Gent Gran Can Gaza - Av Sant Josep de Calassanç 23-25. 08328 Alella
ORGANIZER:Ajuntament d'Alella
URL:https://www.mynerva.net/ajalella/document.php?id=4068
END:VEVENT
END:VCALENDAR