BEGIN:VCALENDAR
VERSION:2.0
PRODID:-//Plone.org//NONSGML plone.app.event//EN
X-WR-TIMEZONE:Europe/Madrid
BEGIN:VEVENT
SUMMARY:Festa del Joc de l'Esport
DTSTART;TZID=Europe/Madrid;VALUE=DATE-TIME:20140601T110000
DTEND;TZID=Europe/Madrid;VALUE=DATE-TIME:20140601T120000
DTSTAMP;VALUE=DATE-TIME:20260421T090013Z
UID:2db164799d948b7128c423b89dfc4f00
CREATED;VALUE=DATE-TIME:20140601T000000Z
CATEGORIES:
LOCATION:Pavelló d'Esports Municipal Abelardo Vera - Passeig de la Creu de Pedra, 29-31. 08328 Alella
ORGANIZER:Ajuntament d'Alella
COMMENT:Durada: D'11 a 14h i de 17 a 20h
URL:https://www.mynerva.net/ajalella/document.php?id=4072
END:VEVENT
END:VCALENDAR