BEGIN:VCALENDAR
VERSION:2.0
PRODID:-//Plone.org//NONSGML plone.app.event//EN
X-WR-TIMEZONE:Europe/Madrid
BEGIN:VEVENT
SUMMARY:Viu el Parc. Festa manital per a tota la família
DTSTART;TZID=Europe/Madrid;VALUE=DATE-TIME:20140525T103000
DTEND;TZID=Europe/Madrid;VALUE=DATE-TIME:20140525T113000
DTSTAMP;VALUE=DATE-TIME:20260421T030214Z
UID:71cc845faa98d379c1e9e7c6da92fd75
CREATED;VALUE=DATE-TIME:20140525T000000Z
CATEGORIES:
LOCATION:Sant Mateu (Premià de Dalt)
ORGANIZER:Consorci del Parc de la Serralada Litoral
URL:https://www.mynerva.net/ajalella/document.php?id=4074
END:VEVENT
END:VCALENDAR