BEGIN:VCALENDAR
VERSION:2.0
PRODID:-//Plone.org//NONSGML plone.app.event//EN
X-WR-TIMEZONE:Europe/Madrid
BEGIN:VEVENT
SUMMARY:Càpsules formatives. Taller. CV originals i actuals
DTSTART;TZID=Europe/Madrid;VALUE=DATE-TIME:20140603T170000
DTEND;TZID=Europe/Madrid;VALUE=DATE-TIME:20140603T180000
DTSTAMP;VALUE=DATE-TIME:20260421T085527Z
UID:f9cef8e2fd48dac0d364fb70e072b2fa
CREATED;VALUE=DATE-TIME:20140603T000000Z
CATEGORIES:
LOCATION:Espai Jove - Avinguda Ferran Fabra, 1 08328
ORGANIZER:Ajuntament d'Alella
URL:https://www.mynerva.net/ajalella/document.php?id=4092
END:VEVENT
END:VCALENDAR