BEGIN:VCALENDAR
VERSION:2.0
PRODID:-//Plone.org//NONSGML plone.app.event//EN
X-WR-TIMEZONE:Europe/Madrid
BEGIN:VEVENT
SUMMARY:75 anys després. En memòria de les víctimes de la guerra i la repressió franquista
DTSTART;TZID=Europe/Madrid;VALUE=DATE-TIME:20140607T120000
DTEND;TZID=Europe/Madrid;VALUE=DATE-TIME:20140607T130000
DTSTAMP;VALUE=DATE-TIME:20260421T125106Z
UID:7391c31e6ffbac0d8513b7e5f2461ad1
CREATED;VALUE=DATE-TIME:20140607T000000Z
CATEGORIES:
LOCATION:Passeig de la Riera Coma Clara (avinguda de Sant Josep de Calassanç)
ORGANIZER:Ajuntament d'Alella i Cerquem les Arrels
URL:https://www.mynerva.net/ajalella/document.php?id=4094
END:VEVENT
END:VCALENDAR