BEGIN:VCALENDAR
VERSION:2.0
PRODID:-//Plone.org//NONSGML plone.app.event//EN
X-WR-TIMEZONE:Europe/Madrid
BEGIN:VEVENT
SUMMARY:Passejada pel Parc de la Serralada Litoral. Paisatge fet a foc
DTSTART;TZID=Europe/Madrid;VALUE=DATE-TIME:20140608T093000
DTEND;TZID=Europe/Madrid;VALUE=DATE-TIME:20140608T103000
DTSTAMP;VALUE=DATE-TIME:20260421T124721Z
UID:f9c24084d7bb2f4473526988b74c356b
CREATED;VALUE=DATE-TIME:20140608T000000Z
CATEGORIES:
LOCATION:Institut Turó d'en Baldiri de Teià
ORGANIZER:Consorci del Parc de la Serralada Litoral
URL:https://www.mynerva.net/ajalella/document.php?id=4095
END:VEVENT
END:VCALENDAR