BEGIN:VCALENDAR
VERSION:2.0
PRODID:-//Plone.org//NONSGML plone.app.event//EN
X-WR-TIMEZONE:Europe/Madrid
BEGIN:VEVENT
SUMMARY:Aplec de l'Arròs
DTSTART;TZID=Europe/Madrid;VALUE=DATE-TIME:20140608T100000
DTEND;TZID=Europe/Madrid;VALUE=DATE-TIME:20140608T110000
DTSTAMP;VALUE=DATE-TIME:20260421T124634Z
UID:2933436d01886f4bc973f9db7feedc8a
CREATED;VALUE=DATE-TIME:20140608T000000Z
CATEGORIES:
LOCATION:El Bosquet - Avinguda del Bosquet, s/n. 08328 Alella
ORGANIZER:Casal d'Alella amb la col·laboració de l'Ajuntament d'Alella
URL:https://www.mynerva.net/ajalella/document.php?id=4096
END:VEVENT
END:VCALENDAR