BEGIN:VCALENDAR
VERSION:2.0
PRODID:-//Plone.org//NONSGML plone.app.event//EN
X-WR-TIMEZONE:Europe/Madrid
BEGIN:VEVENT
SUMMARY:Cinema en VO. Jane Eyre
DTSTART;TZID=Europe/Madrid;VALUE=DATE-TIME:20140611T200000
DTEND;TZID=Europe/Madrid;VALUE=DATE-TIME:20140611T210000
DTSTAMP;VALUE=DATE-TIME:20260421T125030Z
UID:9574c0fb484b5d4f7439dfae26fd3ca3
CREATED;VALUE=DATE-TIME:20140611T000000Z
CATEGORIES:Cinema
LOCATION:Centre Cultural de Can Lleonart - Plaça dels Germans Lleonart, 1 08328 Alella
ORGANIZER:Ajuntament d'Alella
COMMENT:Preu: Gratuït
URL:https://www.mynerva.net/ajalella/document.php?id=4105
END:VEVENT
END:VCALENDAR