BEGIN:VCALENDAR
VERSION:2.0
PRODID:-//Plone.org//NONSGML plone.app.event//EN
X-WR-TIMEZONE:Europe/Madrid
BEGIN:VEVENT
SUMMARY:Portes obertes a Can Lleonart. Vine a sopar al pati
DTSTART;TZID=Europe/Madrid;VALUE=DATE-TIME:20140612T170000
DTEND;TZID=Europe/Madrid;VALUE=DATE-TIME:20140612T180000
DTSTAMP;VALUE=DATE-TIME:20260421T141807Z
UID:cc4a0c3cfcd5ddb84c8284d801b1f8fc
CREATED;VALUE=DATE-TIME:20140612T000000Z
CATEGORIES:
LOCATION:Centre Cultural de Can Lleonart - Plaça dels Germans Lleonart, 1 08328 Alella
ORGANIZER:Ajuntament d'Alella
URL:https://www.mynerva.net/ajalella/document.php?id=4106
END:VEVENT
END:VCALENDAR