BEGIN:VCALENDAR
VERSION:2.0
PRODID:-//Plone.org//NONSGML plone.app.event//EN
X-WR-TIMEZONE:Europe/Madrid
BEGIN:VEVENT
SUMMARY:Concert íntim de Judit Neddermann
DTSTART;TZID=Europe/Madrid;VALUE=DATE-TIME:20140613T210000
DTEND;TZID=Europe/Madrid;VALUE=DATE-TIME:20140613T220000
DTSTAMP;VALUE=DATE-TIME:20260421T160602Z
UID:b6ea8f63d8cf1a9764bd2189e7306057
CREATED;VALUE=DATE-TIME:20140613T000000Z
CATEGORIES:
LOCATION:Espai Jove - Avinguda Ferran Fabra, 1 08328
ORGANIZER:Ajuntament d'Alella
COMMENT:Preu: Gratuït
URL:https://www.mynerva.net/ajalella/document.php?id=4112
END:VEVENT
END:VCALENDAR