BEGIN:VCALENDAR
VERSION:2.0
PRODID:-//Plone.org//NONSGML plone.app.event//EN
X-WR-TIMEZONE:Europe/Madrid
BEGIN:VEVENT
SUMMARY:Taller d'art contemporani. Apunts per a una història de l'art de l'ara mateix
DTSTART;TZID=Europe/Madrid;VALUE=DATE-TIME:20140618T190000
DTEND;TZID=Europe/Madrid;VALUE=DATE-TIME:20140618T200000
DTSTAMP;VALUE=DATE-TIME:20260421T160637Z
UID:f8b6a3864cfa86159f6cb459884602f6
CREATED;VALUE=DATE-TIME:20140618T000000Z
CATEGORIES:
LOCATION:Can Manyé. Espai d'art i creació - Riera Coma Fosca 42. 08328 Alella
ORGANIZER:Ajuntament d'Alella
COMMENT:Preu: Gratuït
URL:https://www.mynerva.net/ajalella/document.php?id=4114
END:VEVENT
END:VCALENDAR