BEGIN:VCALENDAR
VERSION:2.0
PRODID:-//Plone.org//NONSGML plone.app.event//EN
X-WR-TIMEZONE:Europe/Madrid
BEGIN:VEVENT
SUMMARY:Revetlla de Sant Joan
DTSTART;TZID=Europe/Madrid;VALUE=DATE-TIME:20140623T213000
DTEND;TZID=Europe/Madrid;VALUE=DATE-TIME:20140623T223000
DTSTAMP;VALUE=DATE-TIME:20260421T192359Z
UID:ccf97c65a9a005d24c27410576b14d9b
CREATED;VALUE=DATE-TIME:20140623T000000Z
CATEGORIES:
LOCATION:Riera principal
ORGANIZER:Ajuntament d'Alella
URL:https://www.mynerva.net/ajalella/document.php?id=4115
END:VEVENT
END:VCALENDAR