BEGIN:VCALENDAR
VERSION:2.0
PRODID:-//Plone.org//NONSGML plone.app.event//EN
X-WR-TIMEZONE:Europe/Madrid
BEGIN:VEVENT
SUMMARY:Sortida a Port Aventura
DTSTART;TZID=Europe/Madrid;VALUE=DATE-TIME:20140626T080000
DTEND;TZID=Europe/Madrid;VALUE=DATE-TIME:20140626T090000
DTSTAMP;VALUE=DATE-TIME:20260421T203046Z
UID:e05ae19dd6414450e39a10f32d0fb263
CREATED;VALUE=DATE-TIME:20140626T000000Z
CATEGORIES:
LOCATION:Plaça d'Antoni Pujadas - Plaça d'Antoni Pujadas. 08328 Alella
ORGANIZER:Ajuntament d'Alella
DESCRIPTION:PLACES EXHAURIDES
URL:https://www.mynerva.net/ajalella/document.php?id=4117
END:VEVENT
END:VCALENDAR