BEGIN:VCALENDAR
VERSION:2.0
PRODID:-//Plone.org//NONSGML plone.app.event//EN
X-WR-TIMEZONE:Europe/Madrid
BEGIN:VEVENT
SUMMARY:Festival d'Estiu. Saborasons. Chano Domínguez i Marina Albero
DTSTART;TZID=Europe/Madrid;VALUE=DATE-TIME:20140629T220000
DTEND;TZID=Europe/Madrid;VALUE=DATE-TIME:20140629T230000
DTSTAMP;VALUE=DATE-TIME:20260421T202140Z
UID:c1f747f742ffbfc624047c41d8ac7e7d
CREATED;VALUE=DATE-TIME:20140629T000000Z
CATEGORIES:Música
LOCATION:Restaurant els Garrofers
ORGANIZER:Ajuntament d'Alella i Saborasons
COMMENT:Preu: 30 euros
URL:https://www.mynerva.net/ajalella/document.php?id=4118
END:VEVENT
END:VCALENDAR