BEGIN:VCALENDAR
VERSION:2.0
PRODID:-//Plone.org//NONSGML plone.app.event//EN
X-WR-TIMEZONE:Europe/Madrid
BEGIN:VEVENT
SUMMARY:Taller familiar. Vine a fer un capgròs!
DTSTART;TZID=Europe/Madrid;VALUE=DATE-TIME:20140614T110000
DTEND;TZID=Europe/Madrid;VALUE=DATE-TIME:20140614T120000
DTSTAMP;VALUE=DATE-TIME:20260421T171307Z
UID:7477414c34796d1d55c495db5b589dd8
CREATED;VALUE=DATE-TIME:20140614T000000Z
CATEGORIES:
LOCATION:Antigues Escoles Fabra - Avinguda Ferran Fabra, 1 08328
ORGANIZER:Les AMPA de l'Institut Alella, l'Escola Fabra i l'Escola la Serreta i www.somescola.cat
COMMENT:Preu: Gratuït
Durada: D'11 a 13h
URL:https://www.mynerva.net/ajalella/document.php?id=4121
END:VEVENT
END:VCALENDAR