BEGIN:VCALENDAR
VERSION:2.0
PRODID:-//Plone.org//NONSGML plone.app.event//EN
X-WR-TIMEZONE:Europe/Madrid
BEGIN:VEVENT
SUMMARY:Festival de fi de curs de l'Escola de Dansa
DTSTART;TZID=Europe/Madrid;VALUE=DATE-TIME:20140614T180000
DTEND;TZID=Europe/Madrid;VALUE=DATE-TIME:20140614T190000
DTSTAMP;VALUE=DATE-TIME:20260421T160542Z
UID:cffd11b00626fd35f9adff80fc73be41
CREATED;VALUE=DATE-TIME:20140614T000000Z
CATEGORIES:
LOCATION:Teatre la Massa de Vilassar de Dalt
ORGANIZER:Ajuntament d'Alella
URL:https://www.mynerva.net/ajalella/document.php?id=4122
END:VEVENT
END:VCALENDAR