BEGIN:VCALENDAR
VERSION:2.0
PRODID:-//Plone.org//NONSGML plone.app.event//EN
X-WR-TIMEZONE:Europe/Madrid
BEGIN:VEVENT
SUMMARY:Taller d'art contemporani. 3a sessió: Sistemes de l'art contemporani
DTSTART;TZID=Europe/Madrid;VALUE=DATE-TIME:20140702T190000
DTEND;TZID=Europe/Madrid;VALUE=DATE-TIME:20140702T200000
DTSTAMP;VALUE=DATE-TIME:20260421T192422Z
UID:0b1c0cb9c076fc42b4fca539acda7709
CREATED;VALUE=DATE-TIME:20140702T000000Z
CATEGORIES:
LOCATION:Can Manyé. Espai d'art i creació - Riera Coma Fosca 42. 08328 Alella
ORGANIZER:Ajuntament d'Alella
COMMENT:Preu: Gratuït
Durada: De 19 a 21 hores
URL:https://www.mynerva.net/ajalella/document.php?id=4129
END:VEVENT
END:VCALENDAR