BEGIN:VCALENDAR
VERSION:2.0
PRODID:-//Plone.org//NONSGML plone.app.event//EN
X-WR-TIMEZONE:Europe/Madrid
BEGIN:VEVENT
SUMMARY:Recital de poesia
DTSTART;TZID=Europe/Madrid;VALUE=DATE-TIME:20140619T200000
DTEND;TZID=Europe/Madrid;VALUE=DATE-TIME:20140619T210000
DTSTAMP;VALUE=DATE-TIME:20260421T160541Z
UID:732e23f994d9e5317449e6dfe164fddb
CREATED;VALUE=DATE-TIME:20140619T000000Z
CATEGORIES:Literatura
LOCATION:Biblioteca Municipal Ferrer i Guàrdia - Hort de la Rectoria. 08328 Alella
ORGANIZER:Ajuntament d'Alella
URL:https://www.mynerva.net/ajalella/document.php?id=4131
END:VEVENT
END:VCALENDAR