BEGIN:VCALENDAR
VERSION:2.0
PRODID:-//Plone.org//NONSGML plone.app.event//EN
X-WR-TIMEZONE:Europe/Madrid
BEGIN:VEVENT
SUMMARY:Festival d'Estiu. Saborasons. Cinema gastronòmico a la fresca
DTSTART;TZID=Europe/Madrid;VALUE=DATE-TIME:20140704T220000
DTEND;TZID=Europe/Madrid;VALUE=DATE-TIME:20140704T230000
DTSTAMP;VALUE=DATE-TIME:20260421T222616Z
UID:f5e0743874bb979a0ddba0ed87b175da
CREATED;VALUE=DATE-TIME:20140704T000000Z
CATEGORIES:
LOCATION:Restaurant els Garrofers
ORGANIZER:Ajuntament d'Alella i Saborasons
COMMENT:Preu: 3 euros
URL:https://www.mynerva.net/ajalella/document.php?id=4188
END:VEVENT
END:VCALENDAR