BEGIN:VCALENDAR
VERSION:2.0
PRODID:-//Plone.org//NONSGML plone.app.event//EN
X-WR-TIMEZONE:Europe/Madrid
BEGIN:VEVENT
SUMMARY:Festa Major. Lliurament de premis del concurs de dibuix infantil
DTSTART;TZID=Europe/Madrid;VALUE=DATE-TIME:20140703T103000
DTEND;TZID=Europe/Madrid;VALUE=DATE-TIME:20140703T113000
DTSTAMP;VALUE=DATE-TIME:20260422T001336Z
UID:917b64ff80d2b05dd70973e4a95fb390
CREATED;VALUE=DATE-TIME:20140703T000000Z
CATEGORIES:
LOCATION:Centre Cultural de Can Lleonart - Plaça dels Germans Lleonart, 1 08328 Alella
URL:https://www.mynerva.net/ajalella/document.php?id=4327
END:VEVENT
END:VCALENDAR