BEGIN:VCALENDAR
VERSION:2.0
PRODID:-//Plone.org//NONSGML plone.app.event//EN
X-WR-TIMEZONE:Europe/Madrid
BEGIN:VEVENT
SUMMARY:Festa Major. Exposició dels treballs del XX concurs de dibuixos
DTSTART;TZID=Europe/Madrid;VALUE=DATE-TIME:20160730T173000
DTEND;TZID=Europe/Madrid;VALUE=DATE-TIME:20160730T183000
DTSTAMP;VALUE=DATE-TIME:20260421T160735Z
UID:5ffc6b6fa2635abe7a42d5f6f4a07f19
CREATED;VALUE=DATE-TIME:20160730T000000Z
CATEGORIES:
LOCATION:Centre Cultural de Can Lleonart
ORGANIZER:Associació de Dones Montserrat Roig
URL:https://www.mynerva.net/ajalella/document.php?id=6944
END:VEVENT
END:VCALENDAR