BEGIN:VCALENDAR
VERSION:2.0
PRODID:-//Plone.org//NONSGML plone.app.event//EN
X-WR-TIMEZONE:Europe/Madrid
BEGIN:VEVENT
SUMMARY:Festa Major. Ball amb l'orquestra Swing Latino
DTSTART;TZID=Europe/Madrid;VALUE=DATE-TIME:20160729T235500
DTEND;TZID=Europe/Madrid;VALUE=DATE-TIME:20160730T005500
DTSTAMP;VALUE=DATE-TIME:20260421T125858Z
UID:1b2a541ed7d6db4e61b9758ef01496cd
CREATED;VALUE=DATE-TIME:20160729T000000Z
CATEGORIES:
LOCATION:Hort de la Rectoria
ORGANIZER:Ajuntament d'Alella
URL:https://www.mynerva.net/ajalella/document.php?id=6954
END:VEVENT
END:VCALENDAR