BEGIN:VCALENDAR
VERSION:2.0
PRODID:-//Plone.org//NONSGML plone.app.event//EN
X-WR-TIMEZONE:Europe/Madrid
BEGIN:VEVENT
SUMMARY:Festa Major. XX Concurs de dibuix infantil
DTSTART;TZID=Europe/Madrid;VALUE=DATE-TIME:20160730T100000
DTEND;TZID=Europe/Madrid;VALUE=DATE-TIME:20160730T110000
DTSTAMP;VALUE=DATE-TIME:20260421T160734Z
UID:2d8f1e2994987bd5a4b15551927d53f3
CREATED;VALUE=DATE-TIME:20160730T000000Z
CATEGORIES:
LOCATION:Local de l'Associació de Dones Montserrat Roig (Plaça de l'Ajuntament,3)
ORGANIZER:Associació de Dones Montserrat Roig
URL:https://www.mynerva.net/ajalella/document.php?id=6955
END:VEVENT
END:VCALENDAR