BEGIN:VCALENDAR
VERSION:2.0
PRODID:-//Plone.org//NONSGML plone.app.event//EN
X-WR-TIMEZONE:Europe/Madrid
BEGIN:VEVENT
SUMMARY:Festa Major. XVII Guerra guarra i remullada
DTSTART;TZID=Europe/Madrid;VALUE=DATE-TIME:20160730T130000
DTEND;TZID=Europe/Madrid;VALUE=DATE-TIME:20160730T140000
DTSTAMP;VALUE=DATE-TIME:20260421T160734Z
UID:77c946ab90867bc4e914b549a89e80b8
CREATED;VALUE=DATE-TIME:20160730T000000Z
CATEGORIES:
LOCATION:Riera Principal
ORGANIZER:Esplai Guaita'l
URL:https://www.mynerva.net/ajalella/document.php?id=6956
END:VEVENT
END:VCALENDAR