BEGIN:VCALENDAR
VERSION:2.0
PRODID:-//Plone.org//NONSGML plone.app.event//EN
X-WR-TIMEZONE:Europe/Madrid
BEGIN:VEVENT
SUMMARY:Festa Major. Taller de caretes
DTSTART;TZID=Europe/Madrid;VALUE=DATE-TIME:20160730T173000
DTEND;TZID=Europe/Madrid;VALUE=DATE-TIME:20160730T183000
DTSTAMP;VALUE=DATE-TIME:20260421T160735Z
UID:dd35b37c95a838833cef1be217597adf
CREATED;VALUE=DATE-TIME:20160730T000000Z
CATEGORIES:
LOCATION:Pati de Can Lleonart
ORGANIZER:Colla de Gegants, Capgrossos, Grallers i Timbalers d'Alella
URL:https://www.mynerva.net/ajalella/document.php?id=6957
END:VEVENT
END:VCALENDAR