BEGIN:VCALENDAR
VERSION:2.0
PRODID:-//Plone.org//NONSGML plone.app.event//EN
X-WR-TIMEZONE:Europe/Madrid
BEGIN:VEVENT
SUMMARY:Festa Major. Cercavila de gegants
DTSTART;TZID=Europe/Madrid;VALUE=DATE-TIME:20160730T183000
DTEND;TZID=Europe/Madrid;VALUE=DATE-TIME:20160730T193000
DTSTAMP;VALUE=DATE-TIME:20260421T160815Z
UID:94da8ba96f8ed9c6f2b9aa775f4c4735
CREATED;VALUE=DATE-TIME:20160730T000000Z
CATEGORIES:
LOCATION:Sortida pati de Can Lleonart
ORGANIZER:Ajuntament d'Alella
URL:https://www.mynerva.net/ajalella/document.php?id=6958
END:VEVENT
END:VCALENDAR