BEGIN:VCALENDAR
VERSION:2.0
PRODID:-//Plone.org//NONSGML plone.app.event//EN
X-WR-TIMEZONE:Europe/Madrid
BEGIN:VEVENT
SUMMARY:Festa Major. Tast Jove de cerveses i vins
DTSTART;TZID=Europe/Madrid;VALUE=DATE-TIME:20160730T200000
DTEND;TZID=Europe/Madrid;VALUE=DATE-TIME:20160730T210000
DTSTAMP;VALUE=DATE-TIME:20260421T160736Z
UID:a7e6d3863e56de447bee7ce7cdc5d19c
CREATED;VALUE=DATE-TIME:20160730T000000Z
CATEGORIES:
LOCATION:Centre Cultural de Can Lleonart
ORGANIZER:CEP'S
URL:https://www.mynerva.net/ajalella/document.php?id=6959
END:VEVENT
END:VCALENDAR