BEGIN:VCALENDAR
VERSION:2.0
PRODID:-//Plone.org//NONSGML plone.app.event//EN
X-WR-TIMEZONE:Europe/Madrid
BEGIN:VEVENT
SUMMARY:Festa Major. Sopar Jove
DTSTART;TZID=Europe/Madrid;VALUE=DATE-TIME:20160730T213000
DTEND;TZID=Europe/Madrid;VALUE=DATE-TIME:20160730T223000
DTSTAMP;VALUE=DATE-TIME:20260421T160659Z
UID:b22feed7ba4e416dbbade64ee9e0c37d
CREATED;VALUE=DATE-TIME:20160730T000000Z
CATEGORIES:
LOCATION:Pati de Can Lleonart
ORGANIZER:CEP'S
URL:https://www.mynerva.net/ajalella/document.php?id=6960
END:VEVENT
END:VCALENDAR