BEGIN:VCALENDAR
VERSION:2.0
PRODID:-//Plone.org//NONSGML plone.app.event//EN
X-WR-TIMEZONE:Europe/Madrid
BEGIN:VEVENT
SUMMARY:Festa Major. Nit Jove. Concert d'El Veïnat i Les Absentes
DTSTART;TZID=Europe/Madrid;VALUE=DATE-TIME:20160730T003000
DTEND;TZID=Europe/Madrid;VALUE=DATE-TIME:20160730T013000
DTSTAMP;VALUE=DATE-TIME:20260421T125859Z
UID:e1f7978dfa14746c673c8242f1bb576e
CREATED;VALUE=DATE-TIME:20160730T000000Z
CATEGORIES:
LOCATION:Hort de la Rectoria
ORGANIZER:CEP'S
URL:https://www.mynerva.net/ajalella/document.php?id=6963
END:VEVENT
END:VCALENDAR