BEGIN:VCALENDAR
VERSION:2.0
PRODID:-//Plone.org//NONSGML plone.app.event//EN
X-WR-TIMEZONE:Europe/Madrid
BEGIN:VEVENT
SUMMARY:Passejades guiades al Parc de la Serralada Litoral. Torrent de Can Cuquet: món d'aigua viva
DTSTART;TZID=Europe/Madrid;VALUE=DATE-TIME:20161105T100000
DTEND;TZID=Europe/Madrid;VALUE=DATE-TIME:20161105T110000
DTSTAMP;VALUE=DATE-TIME:20260421T125808Z
UID:41f1540fa9fa955baed11a85e3aaa001
CREATED;VALUE=DATE-TIME:20161105T000000Z
CATEGORIES:
LOCATION:Vallromanes
ORGANIZER:Consorci del Parc de la Serralada Litoral
URL:https://www.mynerva.net/ajalella/document.php?id=7237
END:VEVENT
END:VCALENDAR