BEGIN:VCALENDAR
VERSION:2.0
PRODID:-//Plone.org//NONSGML plone.app.event//EN
X-WR-TIMEZONE:Europe/Madrid
BEGIN:VEVENT
SUMMARY:Taller. El jardí mediterrani, la poda i la tardor
DTSTART;TZID=Europe/Madrid;VALUE=DATE-TIME:20161108T170000
DTEND;TZID=Europe/Madrid;VALUE=DATE-TIME:20161108T180000
DTSTAMP;VALUE=DATE-TIME:20260421T160603Z
UID:128e6641b17b96b9a2bf2399b1adebe9
CREATED;VALUE=DATE-TIME:20161108T000000Z
CATEGORIES:
LOCATION:Garden Arenas
ORGANIZER:Ajuntament d'Alella
URL:https://www.mynerva.net/ajalella/document.php?id=7238
END:VEVENT
END:VCALENDAR