BEGIN:VCALENDAR
VERSION:2.0
PRODID:-//Plone.org//NONSGML plone.app.event//EN
X-WR-TIMEZONE:Europe/Madrid
BEGIN:VEVENT
SUMMARY:Correllengua. Xerrada sobre l'obra i la vida de Montserrat Roig
DTSTART;TZID=Europe/Madrid;VALUE=DATE-TIME:20161104T190000
DTEND;TZID=Europe/Madrid;VALUE=DATE-TIME:20161104T200000
DTSTAMP;VALUE=DATE-TIME:20260421T143337Z
UID:8275b7926e18cac564efb6684e6a2f12
CREATED;VALUE=DATE-TIME:20161104T000000Z
CATEGORIES:
LOCATION:Biblioteca Municipal Ferrer i Guàrdia - Hort de la Rectoria. 08328 Alella
ORGANIZER:La CAL, Òmnium Alella, el Masnou i Teià i Alella per la Independència- l'ANC amb la col·laboració de l'Ajuntament
URL:https://www.mynerva.net/ajalella/document.php?id=7258
END:VEVENT
END:VCALENDAR