BEGIN:VCALENDAR
VERSION:2.0
PRODID:-//Plone.org//NONSGML plone.app.event//EN
X-WR-TIMEZONE:Europe/Madrid
BEGIN:VEVENT
SUMMARY:Correllengua. Lliurament de Premis Literaris Alella a Maria Oleart i Alella a Guida Alzina
DTSTART;TZID=Europe/Madrid;VALUE=DATE-TIME:20161105T200000
DTEND;TZID=Europe/Madrid;VALUE=DATE-TIME:20161105T210000
DTSTAMP;VALUE=DATE-TIME:20260421T125652Z
UID:727d586fd038ab558833a055d1dd69f1
CREATED;VALUE=DATE-TIME:20161105T000000Z
CATEGORIES:
LOCATION:Celler de Can Magarola - Avda. Sant Mateu, 2. 08328 Alella
ORGANIZER:Ajuntament d'Alella
URL:https://www.mynerva.net/ajalella/document.php?id=7260
END:VEVENT
END:VCALENDAR