BEGIN:VCALENDAR
VERSION:2.0
PRODID:-//Plone.org//NONSGML plone.app.event//EN
X-WR-TIMEZONE:Europe/Madrid
BEGIN:VEVENT
SUMMARY:Correllengua. Espectacle. Esperit de Vinyoli
DTSTART;TZID=Europe/Madrid;VALUE=DATE-TIME:20161105T210000
DTEND;TZID=Europe/Madrid;VALUE=DATE-TIME:20161105T220000
DTSTAMP;VALUE=DATE-TIME:20260421T125659Z
UID:c5e091dcf916d5b9baafccd2a1b0cd83
CREATED;VALUE=DATE-TIME:20161105T000000Z
CATEGORIES:
LOCATION:Celler de Can Magarola - Avda. Sant Mateu, 2. 08328 Alella
ORGANIZER:Ajuntament d'Alella
COMMENT:Preu: És gratuït però cal recollir entrada prèviament a Can Lleonart
DESCRIPTION:Entrades exhaurides
URL:https://www.mynerva.net/ajalella/document.php?id=7261
END:VEVENT
END:VCALENDAR