BEGIN:VCALENDAR
VERSION:2.0
PRODID:-//Plone.org//NONSGML plone.app.event//EN
X-WR-TIMEZONE:Europe/Madrid
BEGIN:VEVENT
SUMMARY:Correllengua. Presentació del treball de la 3a beca de recerca històrica
DTSTART;TZID=Europe/Madrid;VALUE=DATE-TIME:20161105T190000
DTEND;TZID=Europe/Madrid;VALUE=DATE-TIME:20161105T200000
DTSTAMP;VALUE=DATE-TIME:20260421T143512Z
UID:bc91520a077935b0c6a899668992bb42
CREATED;VALUE=DATE-TIME:20161105T000000Z
CATEGORIES:
LOCATION:Masia de Can Magarola - Avda. Sant Mateu, 2. 08328 Alella
ORGANIZER:Ajuntament d'Alella
URL:https://www.mynerva.net/ajalella/document.php?id=7336
END:VEVENT
END:VCALENDAR