BEGIN:VCALENDAR
VERSION:2.0
PRODID:-//Plone.org//NONSGML plone.app.event//EN
X-WR-TIMEZONE:Europe/Madrid
BEGIN:VEVENT
SUMMARY:Presentació del vi Orígens de Josep Coll
DTSTART;TZID=Europe/Madrid;VALUE=DATE-TIME:20161109T200000
DTEND;TZID=Europe/Madrid;VALUE=DATE-TIME:20161109T210000
DTSTAMP;VALUE=DATE-TIME:20260421T173859Z
UID:f401b63bc124d77faa9e3928a48589c1
CREATED;VALUE=DATE-TIME:20161109T000000Z
CATEGORIES:
LOCATION:Centre Cultural de Can Lleonart - Plaça dels Germans Lleonart, 1 08328 Alella
ORGANIZER:Ajuntament d'Alella
URL:https://www.mynerva.net/ajalella/document.php?id=7350
END:VEVENT
END:VCALENDAR