BEGIN:VCALENDAR
VERSION:2.0
PRODID:-//Plone.org//NONSGML plone.app.event//EN
X-WR-TIMEZONE:Europe/Madrid
BEGIN:VEVENT
SUMMARY:Tast de whisky
DTSTART;TZID=Europe/Madrid;VALUE=DATE-TIME:20161110T200000
DTEND;TZID=Europe/Madrid;VALUE=DATE-TIME:20161110T210000
DTSTAMP;VALUE=DATE-TIME:20260421T192426Z
UID:0048ce0f1a01469bc2d5fc7044d6f6e8
CREATED;VALUE=DATE-TIME:20161110T000000Z
CATEGORIES:
LOCATION:Centre Cultural de Can Lleonart - Plaça dels Germans Lleonart, 1 08328 Alella
ORGANIZER:Ajuntament d'Alella
URL:https://www.mynerva.net/ajalella/document.php?id=7361
END:VEVENT
END:VCALENDAR