BEGIN:VCALENDAR
VERSION:2.0
PRODID:-//Plone.org//NONSGML plone.app.event//EN
X-WR-TIMEZONE:Europe/Madrid
BEGIN:VEVENT
SUMMARY:Festa Solidària de l'Alella Negocis
DTSTART;TZID=Europe/Madrid;VALUE=DATE-TIME:20161112T100000
DTEND;TZID=Europe/Madrid;VALUE=DATE-TIME:20161112T110000
DTSTAMP;VALUE=DATE-TIME:20260421T204651Z
UID:ec3475c055b12e68863b142424574f9c
CREATED;VALUE=DATE-TIME:20161112T000000Z
CATEGORIES:
LOCATION:Plaça d'Antoni Pujadas - Plaça d'Antoni Pujadas. 08328 Alella
ORGANIZER:Alella Negocis amb la col·laboració de l'Ajuntament d'Alella
URL:https://www.mynerva.net/ajalella/document.php?id=7363
END:VEVENT
END:VCALENDAR